BEGIN:VCALENDAR
VERSION:2.0
PRODID:SchoolNow
CALSCALE:GREGORIAN
BEGIN:VEVENT
UID:2b2a0fe0-42b0-11ee-918a-0ec7e20a94e7
DTSTAMP:20231115T223133Z
SUMMARY:CDD Board Meeting - Nov. 2023
LOCATION:4475 Arlington Ridge Blvd.\, Leesburg\, Florida 34748. https://zoo
 m.us/j/3797970647\, Meeting ID: 3797970647 OR Call-In Audio: (415) 762-998
 8 or (646) 568-7788 \, Conference ID: 3797970647
URL;VALUE=URI:https://www.arlingtonridgecdd.org/calendar/4621519/cdd-board-
 meeting-nov-2023
DTSTART:20231116T190000Z
DTEND:20231116T200000Z
ATTACH;FILENAME=2023-11-16 Arlington Ridge CDD Revised Agenda Package f.pdf
 ;FMTTYPE=application/pdf:https://campussuite-storage.s3.amazonaws.com/prod
 /1559104/5c8fc708-8913-11ec-a8cc-0a79c3efda05/2701532/b712857c-8406-11ee-9
 e98-0a58a9feac02/file/2023-11-16 Arlington Ridge CDD Revised Agenda Packag
 e f.pdf
END:VEVENT
END:VCALENDAR
