BEGIN:VCALENDAR
VERSION:2.0
PRODID:SchoolNow
CALSCALE:GREGORIAN
BEGIN:VEVENT
UID:1b89ada2-42b0-11ee-aa7c-0a58a9feac02
DTSTAMP:20231012T211847Z
SUMMARY:CDD Board Meeting - Oct. 2023
LOCATION:4475 Arlington Ridge Blvd.\, Leesburg\, Florida 34748. https://zoo
 m.us/j/3797970647\, Meeting ID: 3797970647 OR Call-In Audio: (415) 762-998
 8 or (646) 568-7788 \, Conference ID: 3797970647
URL;VALUE=URI:https://www.arlingtonridgecdd.org/calendar/4621518/cdd-board-
 meeting-oct-2023
DTSTART:20231019T180000Z
DTEND:20231019T190000Z
ATTACH;FILENAME=2023-10-19 Arlington Ridge CDD Full Final Agenda.pdf;FMTTYP
 E=application/pdf:https://campussuite-storage.s3.amazonaws.com/prod/155910
 4/5c8fc708-8913-11ec-a8cc-0a79c3efda05/2679998/eaba5062-6944-11ee-bbd1-0a2
 6a01008c5/file/2023-10-19 Arlington Ridge CDD Full Final Agenda.pdf
END:VEVENT
END:VCALENDAR
