BEGIN:VCALENDAR
VERSION:2.0
PRODID:SchoolNow
CALSCALE:GREGORIAN
BEGIN:VEVENT
UID:89e4b378-ff99-11ed-b21e-0e0e4a68ad9f
DTSTAMP:20230606T201144Z
SUMMARY:Budget Workshop - Jun. 2023
LOCATION:4475 Arlington Ridge Blvd.\, Leesburg\, Florida 34748.
URL;VALUE=URI:https://www.arlingtonridgecdd.org/calendar/4328164/budget-wor
 kshop-jun-2023
DTSTART:20230612T130000Z
DTEND:20230612T140000Z
ATTACH;FILENAME=2023-06-12 budget workshop agenda package.pdf;FMTTYPE=appli
 cation/pdf:https://campussuite-storage.s3.amazonaws.com/prod/1559104/5c8fc
 708-8913-11ec-a8cc-0a79c3efda05/2608637/55caf496-04a6-11ee-a735-0ac831b7ce
 4d/file/2023-06-12 budget workshop agenda package.pdf
END:VEVENT
END:VCALENDAR
