BEGIN:VCALENDAR
VERSION:2.0
PRODID:SchoolNow
CALSCALE:GREGORIAN
BEGIN:VEVENT
UID:857f7a72-d409-11ed-a9b6-0a44be03f2b7
DTSTAMP:20230407T135300Z
SUMMARY:Budget Workshop - Apr. 2023
LOCATION:4475 Arlington Ridge Blvd.\, Leesburg\, Florida 34748
URL;VALUE=URI:https://www.arlingtonridgecdd.org/calendar/3991226/budget-wor
 kshop-apr-2023
DTSTART:20230413T180000Z
DTEND:20230413T190000Z
ATTACH;FILENAME=2023-04-13 workshop agenda 002.pdf;FMTTYPE=application/pdf:
 https://campussuite-storage.s3.amazonaws.com/prod/1559104/5c8fc708-8913-11
 ec-a8cc-0a79c3efda05/2577868/7e1af106-d54b-11ed-b083-0a40a37fa1ff/file/202
 3-04-13 workshop agenda 002.pdf
END:VEVENT
END:VCALENDAR
