BEGIN:VCALENDAR
VERSION:2.0
PRODID:SchoolNow
CALSCALE:GREGORIAN
BEGIN:VEVENT
UID:883eb182-8ba3-11ed-86f4-0ef0030343ab
DTSTAMP:20230310T135200Z
SUMMARY:CDD Board Workshop - Jan. 2023
LOCATION:4475 Arlington Ridge Blvd.\, Leesburg\, Florida 34748
URL;VALUE=URI:https://www.arlingtonridgecdd.org/calendar/3654393/cdd-board-
 workshop-jan-2023
DTSTART:20230112T190000Z
DTEND:20230112T200000Z
ATTACH;FILENAME=2023-01-19 agenda package.pdf;FMTTYPE=application/pdf:https
 ://campussuite-storage.s3.amazonaws.com/prod/1559104/5c8fc708-8913-11ec-a8
 cc-0a79c3efda05/2562711/95ca4a16-bf4a-11ed-b778-0e3902c8c763/file/2023-01-
 19 agenda package.pdf
END:VEVENT
END:VCALENDAR
