BEGIN:VCALENDAR
VERSION:2.0
PRODID:SchoolNow
CALSCALE:GREGORIAN
BEGIN:VEVENT
UID:283ff72e-6442-11ed-83ff-028f546675cf
DTSTAMP:20230915T191227Z
SUMMARY:CDD Board Meeting - Sept. 2023
LOCATION:4475 Arlington Ridge Blvd.\, Leesburg\, Florida 34748. https://zoo
 m.us/j/3797970647\, Meeting ID: 3797970647 OR Call-In Audio: (415) 762-998
 8 or (646) 568-7788 \, Conference ID: 3797970647
URL;VALUE=URI:https://www.arlingtonridgecdd.org/calendar/3609126/cdd-board-
 meeting-sept-2023
DTSTART:20230921T180000Z
DTEND:20230921T190000Z
ATTACH;FILENAME=2023-09-21 Arlington Ridge CDD Final Agenda (006).pdf;FMTTY
 PE=application/pdf:https://campussuite-storage.s3.amazonaws.com/prod/15591
 04/5c8fc708-8913-11ec-a8cc-0a79c3efda05/2661764/cbd0662c-53fb-11ee-83f9-0a
 ab678d0845/file/2023-09-21 Arlington Ridge CDD Final Agenda (006).pdf
END:VEVENT
END:VCALENDAR
