BEGIN:VCALENDAR
VERSION:2.0
PRODID:SchoolNow
CALSCALE:GREGORIAN
BEGIN:VEVENT
UID:0a3c89ae-6442-11ed-a992-028f546675cf
DTSTAMP:20230614T220458Z
SUMMARY:CDD Board Meeting - Jul. 2023 - Canceled
LOCATION:4475 Arlington Ridge Blvd.\, Leesburg\, Florida 34748. https://zoo
 m.us/j/3797970647\, Meeting ID: 3797970647 OR Call-In Audio: (415) 762-998
 8 or (646) 568-7788 \, Conference ID: 3797970647
URL;VALUE=URI:https://www.arlingtonridgecdd.org/calendar/3609123/cdd-board-
 meeting-jul-2023
DTSTART:20230720T180000Z
DTEND:20230720T190000Z
END:VEVENT
END:VCALENDAR
