BEGIN:VCALENDAR
VERSION:2.0
PRODID:SchoolNow
CALSCALE:GREGORIAN
BEGIN:VEVENT
UID:03c93158-6442-11ed-b72d-028f546675cf
DTSTAMP:20230614T165958Z
SUMMARY:CDD Board Meeting - Jun. 2023
LOCATION:4475 Arlington Ridge Blvd.\, Leesburg\, Florida 34748. https://zoo
 m.us/j/3797970647\, Meeting ID: 3797970647 OR Call-In Audio: (415) 762-998
 8 or (646) 568-7788 \, Conference ID: 3797970647
URL;VALUE=URI:https://www.arlingtonridgecdd.org/calendar/3609122/cdd-board-
 meeting-jun-2023
DTSTART:20230615T180000Z
DTEND:20230615T190000Z
ATTACH;FILENAME=2023-06-15 - Arlington Ridge CDD - Agenda Package.pdf;FMTTY
 PE=application/pdf:https://campussuite-storage.s3.amazonaws.com/prod/15591
 04/5c8fc708-8913-11ec-a8cc-0a79c3efda05/2610801/23023f68-063d-11ee-86df-0a
 85f09e27eb/file/2023-06-15 - Arlington Ridge CDD - Agenda Package.pdf
ATTACH;FILENAME=2023-06-15 Arlington Ridge Apr 2023 Financials Meeting sb.p
 df;FMTTYPE=application/pdf:https://campussuite-storage.s3.amazonaws.com/pr
 od/1559104/5c8fc708-8913-11ec-a8cc-0a79c3efda05/2614013/451bc5b2-0ad2-11ee
 -a751-0e02a06a3f21/file/2023-06-15 Arlington Ridge Apr 2023 Financials Mee
 ting sb.pdf
END:VEVENT
END:VCALENDAR
