BEGIN:VCALENDAR
VERSION:2.0
PRODID:SchoolNow
CALSCALE:GREGORIAN
BEGIN:VEVENT
UID:f637eac0-6441-11ed-9e2a-028f546675cf
DTSTAMP:20230512T171733Z
SUMMARY:CDD Board Meeting - May 2023
LOCATION:4475 Arlington Ridge Blvd.\, Leesburg\, Florida 34748. https://zoo
 m.us/j/3797970647\, Meeting ID: 3797970647 OR Call-In Audio: (415) 762-998
 8 or (646) 568-7788 \, Conference ID: 3797970647
URL;VALUE=URI:https://www.arlingtonridgecdd.org/calendar/3609120/cdd-board-
 meeting-may-2023
DTSTART:20230518T180000Z
DTEND:20230518T190000Z
ATTACH;FILENAME=2023-05-18 - Arlington Ridge CDD - Final Agenda Package.pdf
 ;FMTTYPE=application/pdf:https://campussuite-storage.s3.amazonaws.com/prod
 /1559104/5c8fc708-8913-11ec-a8cc-0a79c3efda05/2592184/dd002912-f0e8-11ed-b
 20f-0e6adac0760f/file/2023-05-18 - Arlington Ridge CDD - Final Agenda Pack
 age.pdf
END:VEVENT
END:VCALENDAR
