BEGIN:VCALENDAR
VERSION:2.0
PRODID:SchoolNow
CALSCALE:GREGORIAN
BEGIN:VEVENT
UID:ebc0b93c-6441-11ed-be40-028f546675cf
DTSTAMP:20230414T201938Z
SUMMARY:CDD Board Meeting - Apr. 2023
LOCATION:4475 Arlington Ridge Blvd.\, Leesburg\, Florida 34748. https://zoo
 m.us/j/3797970647\, Meeting ID: 3797970647 OR Call-In Audio: (415) 762-998
 8 or (646) 568-7788 \, Conference ID: 3797970647
URL;VALUE=URI:https://www.arlingtonridgecdd.org/calendar/3609119/cdd-board-
 meeting-apr-2023
DTSTART:20230420T180000Z
DTEND:20230420T190000Z
ATTACH;FILENAME=2023-04-20 agenda package.pdf;FMTTYPE=application/pdf:https
 ://campussuite-storage.s3.amazonaws.com/prod/1559104/5c8fc708-8913-11ec-a8
 cc-0a79c3efda05/2579984/aa490914-db01-11ed-adc1-0ab5c21653cf/file/2023-04-
 20 agenda package.pdf
END:VEVENT
END:VCALENDAR
