BEGIN:VCALENDAR
VERSION:2.0
PRODID:SchoolNow
CALSCALE:GREGORIAN
BEGIN:VEVENT
UID:e21314de-6441-11ed-b6ac-028f546675cf
DTSTAMP:20230309T232750Z
SUMMARY:CDD Board Meeting - Mar. 2023
LOCATION:4475 Arlington Ridge Blvd.\, Leesburg\, Florida 34748. https://zoo
 m.us/j/3797970647\, Meeting ID: 3797970647 OR Call-In Audio: (415) 762-998
 8 or (646) 568-7788 \, Conference ID: 3797970647
URL;VALUE=URI:https://www.arlingtonridgecdd.org/calendar/3609117/cdd-board-
 meeting-mar-2023
DTSTART:20230316T180000Z
DTEND:20230316T190000Z
ATTACH;FILENAME=2023-03-16 Agenda Package.pdf;FMTTYPE=application/pdf:https
 ://campussuite-storage.s3.amazonaws.com/prod/1559104/5c8fc708-8913-11ec-a8
 cc-0a79c3efda05/2562424/fac014ec-bed1-11ed-a1f9-0a8385ef2a47/file/2023-03-
 16 Agenda Package.pdf
END:VEVENT
END:VCALENDAR
