BEGIN:VCALENDAR
VERSION:2.0
PRODID:SchoolNow
CALSCALE:GREGORIAN
BEGIN:VEVENT
UID:d66767ac-6441-11ed-ac72-028f546675cf
DTSTAMP:20230310T180822Z
SUMMARY:CDD Board Meeting - Feb. 2023
LOCATION:4475 Arlington Ridge Blvd.\, Leesburg\, Florida 34748. https://zoo
 m.us/j/3797970647\, Meeting ID: 3797970647 OR Call-In Audio: (415) 762-998
 8 or (646) 568-7788 \, Conference ID: 3797970647
URL;VALUE=URI:https://www.arlingtonridgecdd.org/calendar/3609116/cdd-board-
 meeting-feb-2023
DTSTART:20230216T190000Z
DTEND:20230216T200000Z
ATTACH;FILENAME=2023-02-16 agenda package.pdf;FMTTYPE=application/pdf:https
 ://campussuite-storage.s3.amazonaws.com/prod/1559104/5c8fc708-8913-11ec-a8
 cc-0a79c3efda05/2562712/95ca54ac-bf4a-11ed-8060-0e3902c8c763/file/2023-02-
 16 agenda package.pdf
END:VEVENT
END:VCALENDAR
