BEGIN:VCALENDAR
VERSION:2.0
PRODID:SchoolNow
CALSCALE:GREGORIAN
BEGIN:VEVENT
UID:ca4a6fc8-6441-11ed-9b6d-028f546675cf
DTSTAMP:20230310T180911Z
SUMMARY:CDD Board Meeting - Jan. 2023
LOCATION:4475 Arlington Ridge Blvd.\, Leesburg\, Florida 34748. https://zoo
 m.us/j/3797970647\, Meeting ID: 3797970647 OR Call-In Audio: (415) 762-998
 8 or (646) 568-7788 \, Conference ID: 3797970647
URL;VALUE=URI:https://www.arlingtonridgecdd.org/calendar/3609114/cdd-board-
 meeting-jan-2023
DTSTART:20230119T190000Z
DTEND:20230119T200000Z
END:VEVENT
END:VCALENDAR
