BEGIN:VCALENDAR
VERSION:2.0
PRODID:SchoolNow
CALSCALE:GREGORIAN
BEGIN:VEVENT
UID:ba12503a-6441-11ed-9743-028f546675cf
DTSTAMP:20230310T202922Z
SUMMARY:CDD Board Meeting - Dec. 2022
LOCATION:4475 Arlington Ridge Blvd.\, Leesburg\, Florida 34748. https://zoo
 m.us/j/3797970647\, Meeting ID: 3797970647 OR Call-In Audio: (415) 762-998
 8 or (646) 568-7788 \, Conference ID: 3797970647
URL;VALUE=URI:https://www.arlingtonridgecdd.org/calendar/3609112/cdd-board-
 meeting-dec-2022
DTSTART:20221215T190000Z
DTEND:20221215T200000Z
ATTACH;FILENAME=2022-12-15 agenda package.pdf;FMTTYPE=application/pdf:https
 ://campussuite-storage.s3.amazonaws.com/prod/1559104/5c8fc708-8913-11ec-a8
 cc-0a79c3efda05/2563921/2ef4a72c-bf82-11ed-8f9b-0a1e8c4d52ab/file/2022-12-
 15 agenda package.pdf
END:VEVENT
END:VCALENDAR
