BEGIN:VCALENDAR
VERSION:2.0
PRODID:SchoolNow
CALSCALE:GREGORIAN
BEGIN:VEVENT
UID:ce8ffe84-643e-11ed-988c-0eaa298eff11
DTSTAMP:20230310T181455Z
SUMMARY:CDD Board Meeting - Nov. 2022
LOCATION:4475 Arlington Ridge Blvd.\, Leesburg\, Florida 34748. https://zoo
 m.us/j/3797970647\, Meeting ID: 3797970647 OR Call-In Audio: (415) 762-998
 8 or (646) 568-7788 \, Conference ID: 3797970647
URL;VALUE=URI:https://www.arlingtonridgecdd.org/calendar/3609095/cdd-board-
 meeting-nov-2022
DTSTART:20221117T190000Z
DTEND:20221117T200000Z
ATTACH;FILENAME=2022-11-17 agenda package revised.pdf;FMTTYPE=application/p
 df:https://campussuite-storage.s3.amazonaws.com/prod/1559104/5c8fc708-8913
 -11ec-a8cc-0a79c3efda05/2563624/63c4d502-bf6f-11ed-9e1c-0e91fb61d2f3/file/
 2022-11-17 agenda package revised.pdf
END:VEVENT
END:VCALENDAR
