BEGIN:VCALENDAR
VERSION:2.0
PRODID:SchoolNow
CALSCALE:GREGORIAN
BEGIN:VEVENT
UID:87c0f126-5547-11ed-a8f2-0ad5a90165e1
DTSTAMP:20221026T160315Z
SUMMARY:Sales Center Resident Committee Meeting - Nov. 14\, 2022
LOCATION:Fairfax Hall
URL;VALUE=URI:https://www.arlingtonridgecdd.org/calendar/3563134/sales-cent
 er-resident-committee-meeting-nov-14-2022
DTSTART:20221114T200000Z
DTEND:20221114T210000Z
END:VEVENT
END:VCALENDAR
