BEGIN:VCALENDAR
VERSION:2.0
PRODID:SchoolNow
CALSCALE:GREGORIAN
BEGIN:VEVENT
UID:74e98464-5547-11ed-a603-0ad5a90165e1
DTSTAMP:20221026T160305Z
SUMMARY:Sales Center Resident Committee Meeting - Nov. 9\, 2022
LOCATION:Fairfax Hall
URL;VALUE=URI:https://www.arlingtonridgecdd.org/calendar/3563133/sales-cent
 er-resident-committee-meeting-nov-9-2022
DTSTART:20221109T233000Z
DTEND:20221110T003000Z
END:VEVENT
END:VCALENDAR
