BEGIN:VCALENDAR
VERSION:2.0
PRODID:SchoolNow
CALSCALE:GREGORIAN
BEGIN:VEVENT
UID:62148de8-5547-11ed-86c3-0ad5a90165e1
DTSTAMP:20221026T160255Z
SUMMARY:Sales Center Resident Committee Meeting - Oct. 31\, 2022
LOCATION:Fairfax Hall
URL;VALUE=URI:https://www.arlingtonridgecdd.org/calendar/3563132/sales-cent
 er-resident-committee-meeting-oct-31-2022
DTSTART:20221031T190000Z
DTEND:20221031T200000Z
END:VEVENT
END:VCALENDAR
