BEGIN:VCALENDAR
VERSION:2.0
PRODID:SchoolNow
CALSCALE:GREGORIAN
BEGIN:VEVENT
UID:569d36fe-5547-11ed-a370-0ad5a90165e1
DTSTAMP:20221026T160327Z
SUMMARY:Sales Center Resident Committee Meeting - Oct. 24\, 2022
LOCATION:Fairfax Hall
URL;VALUE=URI:https://www.arlingtonridgecdd.org/calendar/3563131/sales-cent
 er-resident-committee-meeting-oct-24-2022
DTSTART:20221024T190000Z
DTEND:20221024T200000Z
END:VEVENT
END:VCALENDAR
