BEGIN:VCALENDAR
VERSION:2.0
PRODID:SchoolNow
CALSCALE:GREGORIAN
BEGIN:VEVENT
UID:becbb4ce-4b62-11ed-87b8-02fbea96a247
DTSTAMP:20230310T181517Z
SUMMARY:CDD Board Meeting - Oct. 2022
LOCATION:4475 Arlington Ridge Blvd.\, Leesburg\, Florida 34748. https://zoo
 m.us/j/3797970647\, Meeting ID: 3797970647 OR Call-In Audio: (415) 762-998
 8 or (646) 568-7788 \, Conference ID: 3797970647
URL;VALUE=URI:https://www.arlingtonridgecdd.org/calendar/3518549/cdd-board-
 meeting-oct-2022
DTSTART:20221020T180000Z
DTEND:20221020T190000Z
ATTACH;FILENAME=2022-10-20 workshop agenda package.pdf;FMTTYPE=application/
 pdf:https://campussuite-storage.s3.amazonaws.com/prod/1559104/5c8fc708-891
 3-11ec-a8cc-0a79c3efda05/2562682/3874dcec-bf49-11ed-9895-0e1d63b3d97d/file
 /2022-10-20 workshop agenda package.pdf
END:VEVENT
END:VCALENDAR
