BEGIN:VCALENDAR
VERSION:2.0
PRODID:SchoolNow
CALSCALE:GREGORIAN
BEGIN:VEVENT
UID:0b75f12e-4a71-11ed-b939-0204dd289dbd
DTSTAMP:20230310T134321Z
SUMMARY:CDD Engineering Workshop  - Oct. 2022
LOCATION:4475 Arlington Ridge Blvd.\, Leesburg\, Florida 34748.
URL;VALUE=URI:https://www.arlingtonridgecdd.org/calendar/3513913/cdd-engine
 ering-workshop-oct-2022
DTSTART:20221020T163000Z
DTEND:20221020T173000Z
ATTACH;FILENAME=2022-10-20 workshop agenda package.pdf;FMTTYPE=application/
 pdf:https://campussuite-storage.s3.amazonaws.com/prod/1559104/5c8fc708-891
 3-11ec-a8cc-0a79c3efda05/2562682/3874dcec-bf49-11ed-9895-0e1d63b3d97d/file
 /2022-10-20 workshop agenda package.pdf
END:VEVENT
END:VCALENDAR
