BEGIN:VCALENDAR
VERSION:2.0
PRODID:SchoolNow
CALSCALE:GREGORIAN
BEGIN:VEVENT
UID:30c9784a-8abb-11ec-a6de-0a3a5656503b
DTSTAMP:20220909T014849Z
SUMMARY:CDD Board Meeting - Sept. 2022
LOCATION:4475 Arlington Ridge Blvd.\, Leesburg\, Florida 34748. https://zoo
 m.us/j/3797970647\, Meeting ID: 3797970647 OR Call-In Audio: (415) 762-998
 8 or (646) 568-7788 \, Conference ID: 3797970647
URL;VALUE=URI:https://www.arlingtonridgecdd.org/calendar/3099339/cdd-board-
 meeting-sept-2022
DTSTART:20220915T180000Z
DTEND:20220915T190000Z
ATTACH;FILENAME=2022-09-15 Arlington Ridge CDD Meeting Agenda.pdf;FMTTYPE=a
 pplication/pdf:https://campussuite-storage.s3.amazonaws.com/prod/1559104/5
 c8fc708-8913-11ec-a8cc-0a79c3efda05/2473719/72220ad4-2fe1-11ed-82a9-0eccc8
 ea32e7/file/2022-09-15 Arlington Ridge CDD Meeting Agenda.pdf
END:VEVENT
END:VCALENDAR
