BEGIN:VCALENDAR
VERSION:2.0
PRODID:SchoolNow
CALSCALE:GREGORIAN
BEGIN:VEVENT
UID:13f5d34e-8abb-11ec-a4ba-0a3a5656503b
DTSTAMP:20220816T202429Z
SUMMARY:CDD Board Meeting - Aug. 2022
LOCATION:4475 Arlington Ridge Blvd.\, Leesburg\, Florida 34748. https://zoo
 m.us/j/3797970647\, Meeting ID: 3797970647 OR Call-In Audio: (415) 762-998
 8 or (646) 568-7788 \, Conference ID: 3797970647
URL;VALUE=URI:https://www.arlingtonridgecdd.org/calendar/3099338/cdd-board-
 meeting-aug-2022
DTSTART:20220818T180000Z
DTEND:20220818T190000Z
ATTACH;FILENAME=2022-08-18 Agenda revised.pdf;FMTTYPE=application/pdf:https
 ://campussuite-storage.s3.amazonaws.com/prod/1559104/5c8fc708-8913-11ec-a8
 cc-0a79c3efda05/2461732/68c3d5e6-1da1-11ed-b594-0e126915f5a3/file/2022-08-
 18 Agenda revised.pdf
END:VEVENT
END:VCALENDAR
